BEGIN:VCALENDAR
VERSION:2.0
PRODID:-//Michigan Maritime Museum - ECPv6.15.20//NONSGML v1.0//EN
CALSCALE:GREGORIAN
METHOD:PUBLISH
X-ORIGINAL-URL:https://michiganmaritimemuseum.org
X-WR-CALDESC:Events for Michigan Maritime Museum
REFRESH-INTERVAL;VALUE=DURATION:PT1H
X-Robots-Tag:noindex
X-PUBLISHED-TTL:PT1H
BEGIN:VTIMEZONE
TZID:America/Detroit
BEGIN:DAYLIGHT
TZOFFSETFROM:-0500
TZOFFSETTO:-0400
TZNAME:EDT
DTSTART:20250309T070000
END:DAYLIGHT
BEGIN:STANDARD
TZOFFSETFROM:-0400
TZOFFSETTO:-0500
TZNAME:EST
DTSTART:20251102T060000
END:STANDARD
BEGIN:DAYLIGHT
TZOFFSETFROM:-0500
TZOFFSETTO:-0400
TZNAME:EDT
DTSTART:20260308T070000
END:DAYLIGHT
BEGIN:STANDARD
TZOFFSETFROM:-0400
TZOFFSETTO:-0500
TZNAME:EST
DTSTART:20261101T060000
END:STANDARD
BEGIN:DAYLIGHT
TZOFFSETFROM:-0500
TZOFFSETTO:-0400
TZNAME:EDT
DTSTART:20270314T070000
END:DAYLIGHT
BEGIN:STANDARD
TZOFFSETFROM:-0400
TZOFFSETTO:-0500
TZNAME:EST
DTSTART:20271107T060000
END:STANDARD
END:VTIMEZONE
BEGIN:VEVENT
DTSTART;TZID=America/Detroit:20260627T140000
DTEND;TZID=America/Detroit:20260627T153000
DTSTAMP:20260421T070944
CREATED:20260227T174947Z
LAST-MODIFIED:20260227T174947Z
UID:10001469-1782568800-1782574200@michiganmaritimemuseum.org
SUMMARY:Michigan Soldiers in the War of 1812
DESCRIPTION:Michigan Soldiers in the War of 1812\nDate: Saturday\, June 27th\, 2026\nTime: 2:00-3:30 PM  \nJoin Military History Academy Educator Jerry Berg as he takes us back to when Michigan Territory became the first theater of the War of 1812. Through weapons and clothing\, we’ll learn about how Michigan citizens and soldiers had to find their own ways to prepare for combat. This presentation will also take a look at the unique military units recruited from Michigan’s frontier population\, the battles fought within Michigan\, and even a story about a Michigan unit that took up arms for the British!  \n $5 for members/$15 for non-members (includes admission ticket to the Michigan Maritime Museum)   \nRegister for the presentation online or by calling (269) 637-8078. \n 
URL:https://michiganmaritimemuseum.org/event/michigan-soldiers-in-the-war-of-1812/
LOCATION:Michigan Maritime Museum\, 260 Dyckman Avenue\, South Haven\, MI\, 49090\, United States
ATTACH;FMTTYPE=image/png:https://michiganmaritimemuseum.org/wp-content/uploads/2026/02/Michigan-Soldiers-in-the-War-of-1812-1920x1080-1.png
END:VEVENT
END:VCALENDAR