BEGIN:VCALENDAR
VERSION:2.0
PRODID:-//Michigan Maritime Museum - ECPv6.15.20//NONSGML v1.0//EN
CALSCALE:GREGORIAN
METHOD:PUBLISH
X-WR-CALNAME:Michigan Maritime Museum
X-ORIGINAL-URL:https://michiganmaritimemuseum.org
X-WR-CALDESC:Events for Michigan Maritime Museum
REFRESH-INTERVAL;VALUE=DURATION:PT1H
X-Robots-Tag:noindex
X-PUBLISHED-TTL:PT1H
BEGIN:VTIMEZONE
TZID:America/Detroit
BEGIN:DAYLIGHT
TZOFFSETFROM:-0500
TZOFFSETTO:-0400
TZNAME:EDT
DTSTART:20250309T070000
END:DAYLIGHT
BEGIN:STANDARD
TZOFFSETFROM:-0400
TZOFFSETTO:-0500
TZNAME:EST
DTSTART:20251102T060000
END:STANDARD
BEGIN:DAYLIGHT
TZOFFSETFROM:-0500
TZOFFSETTO:-0400
TZNAME:EDT
DTSTART:20260308T070000
END:DAYLIGHT
BEGIN:STANDARD
TZOFFSETFROM:-0400
TZOFFSETTO:-0500
TZNAME:EST
DTSTART:20261101T060000
END:STANDARD
BEGIN:DAYLIGHT
TZOFFSETFROM:-0500
TZOFFSETTO:-0400
TZNAME:EDT
DTSTART:20270314T070000
END:DAYLIGHT
BEGIN:STANDARD
TZOFFSETFROM:-0400
TZOFFSETTO:-0500
TZNAME:EST
DTSTART:20271107T060000
END:STANDARD
END:VTIMEZONE
BEGIN:VEVENT
DTSTART;TZID=America/Detroit:20260924T183000
DTEND;TZID=America/Detroit:20260924T193000
DTSTAMP:20260419T090457
CREATED:20260224T204122Z
LAST-MODIFIED:20260312T165021Z
UID:10001465-1790274600-1790278200@michiganmaritimemuseum.org
SUMMARY:MMM Lecture Series: Death and Lighthouses on the Great Lakes
DESCRIPTION:Losing one’s life while tending to a Great Lakes lighthouse—or any navigational beacon anywhere in the world for that matter—sadly wasn’t such an unusual occurrence. Death by murder\, drowning\, suicide\, or other unnatural and tragic causes\, while rare\, was not unheard of. In fact\, more than a dozen lighthouse keepers around the Great Lakes met their maker at the hands of others—by fire\, poisoning\, bludgeoning\, and other unknown means. Join us as Dianna Stampfler\, author of Death and Lighthouses on the Great Lakes\, delves into her research\, which brought these stories to life… despite the deaths of those featured. \n\nTickets are free for Museum members and $10 for non-members. Doors open at 6 PM. You can purchase tickets for this event online\, over the phone\, or in-person.\n\n\nThis lecture series is made possible thanks to the Nielsen-Wells Grant Fund and Mike & Sue Smith.\nThe virtual viewing is made possible thanks to Steve & Emily Holt.\nReserve Tickets Here!\nPurchase your Virtual Lecture Pass Here!
URL:https://michiganmaritimemuseum.org/event/mmm-lecture-series-death-and-lighthouses-on-the-great-lakes/
LOCATION:Michigan Maritime Museum\, 260 Dyckman Avenue\, South Haven\, MI\, 49090\, United States
ATTACH;FMTTYPE=image/png:https://michiganmaritimemuseum.org/wp-content/uploads/2026/02/Death-Lighthouses-on-the-Great-Lakes-1920x1080-1.png
END:VEVENT
END:VCALENDAR