BEGIN:VCALENDAR
VERSION:2.0
PRODID:-//Michigan Maritime Museum - ECPv6.15.20//NONSGML v1.0//EN
CALSCALE:GREGORIAN
METHOD:PUBLISH
X-WR-CALNAME:Michigan Maritime Museum
X-ORIGINAL-URL:https://michiganmaritimemuseum.org
X-WR-CALDESC:Events for Michigan Maritime Museum
REFRESH-INTERVAL;VALUE=DURATION:PT1H
X-Robots-Tag:noindex
X-PUBLISHED-TTL:PT1H
BEGIN:VTIMEZONE
TZID:America/Detroit
BEGIN:DAYLIGHT
TZOFFSETFROM:-0500
TZOFFSETTO:-0400
TZNAME:EDT
DTSTART:20250309T070000
END:DAYLIGHT
BEGIN:STANDARD
TZOFFSETFROM:-0400
TZOFFSETTO:-0500
TZNAME:EST
DTSTART:20251102T060000
END:STANDARD
BEGIN:DAYLIGHT
TZOFFSETFROM:-0500
TZOFFSETTO:-0400
TZNAME:EDT
DTSTART:20260308T070000
END:DAYLIGHT
BEGIN:STANDARD
TZOFFSETFROM:-0400
TZOFFSETTO:-0500
TZNAME:EST
DTSTART:20261101T060000
END:STANDARD
BEGIN:DAYLIGHT
TZOFFSETFROM:-0500
TZOFFSETTO:-0400
TZNAME:EDT
DTSTART:20270314T070000
END:DAYLIGHT
BEGIN:STANDARD
TZOFFSETFROM:-0400
TZOFFSETTO:-0500
TZNAME:EST
DTSTART:20271107T060000
END:STANDARD
END:VTIMEZONE
BEGIN:VEVENT
DTSTART;TZID=America/Detroit:20260827T183000
DTEND;TZID=America/Detroit:20260827T193000
DTSTAMP:20260421T115842
CREATED:20260410T211404Z
LAST-MODIFIED:20260410T211550Z
UID:10001565-1787855400-1787859000@michiganmaritimemuseum.org
SUMMARY:From Forest to Shore: Stories of Michigan’s Land and Lakes- Prohibition in Michigan
DESCRIPTION:A Collaborative Lecture Series by Kalamazoo Nature Center & Michigan Maritime Museum\nDiscover the rich tapestry of Michigan’s natural landscapes and maritime heritage in this engaging lecture series. From Forest to Shore brings together maritime experts and naturalists to explore the deep connections between the state’s inland ecosystems and its Great Lakes waterways. Through captivating stories\, scientific insights\, and cultural perspectives\, each lecture will highlight how forests\, wetlands\, and shorelines have shaped Michigan’s history\, ecology\, and communities. Join us as we journey across time and terrain—celebrating the resilience of nature and the enduring legacy of life along the lakes. \nDiscover how Michigan’s rivers\, lakes\, and shorelines turned into front-line battlegrounds during the era of the 18th Amendment. The Detroit River\, St. Clair River\, and Lake Michigan were major smuggling corridors\, moving liquor from Canada into cities and small towns alike. From rum-running boats and winter ice routes to organized crime\, law enforcement\, and everyday citizens who quietly defied the law\, we’ll take a look at how waterborne networks made Prohibition impossible to fully enforce and ultimately positioned Michigan as a key player in the national fight for repeal. \nTickets are free for Michigan Maritime Museum members and Kalamazoo Nature Center members. $10 for non-members. \nThis event will be hosted at Kalamazoo Nature Center.
URL:https://michiganmaritimemuseum.org/event/from-forest-to-shore-stories-of-michigans-land-and-lakes-prohibition-in-michigan/
LOCATION:Kalamazoo Nature Center\, 7000 N Westnedge Ave\, Kalamazoo\, MI\, 49090-1065\, United States
ATTACH;FMTTYPE=image/png:https://michiganmaritimemuseum.org/wp-content/uploads/2026/03/From-Forest-to-Shore-Stories-of-Michigans-Land-and-Lakes-A-Collaborative-Lecture-Series-by-Kalamazoo-Nature-Center-Michigan-Maritime-Museum-1.png
END:VEVENT
END:VCALENDAR