BEGIN:VCALENDAR
VERSION:2.0
PRODID:-//Michigan Maritime Museum - ECPv6.15.20//NONSGML v1.0//EN
CALSCALE:GREGORIAN
METHOD:PUBLISH
X-WR-CALNAME:Michigan Maritime Museum
X-ORIGINAL-URL:https://michiganmaritimemuseum.org
X-WR-CALDESC:Events for Michigan Maritime Museum
REFRESH-INTERVAL;VALUE=DURATION:PT1H
X-Robots-Tag:noindex
X-PUBLISHED-TTL:PT1H
BEGIN:VTIMEZONE
TZID:America/Detroit
BEGIN:DAYLIGHT
TZOFFSETFROM:-0500
TZOFFSETTO:-0400
TZNAME:EDT
DTSTART:20250309T070000
END:DAYLIGHT
BEGIN:STANDARD
TZOFFSETFROM:-0400
TZOFFSETTO:-0500
TZNAME:EST
DTSTART:20251102T060000
END:STANDARD
BEGIN:DAYLIGHT
TZOFFSETFROM:-0500
TZOFFSETTO:-0400
TZNAME:EDT
DTSTART:20260308T070000
END:DAYLIGHT
BEGIN:STANDARD
TZOFFSETFROM:-0400
TZOFFSETTO:-0500
TZNAME:EST
DTSTART:20261101T060000
END:STANDARD
BEGIN:DAYLIGHT
TZOFFSETFROM:-0500
TZOFFSETTO:-0400
TZNAME:EDT
DTSTART:20270314T070000
END:DAYLIGHT
BEGIN:STANDARD
TZOFFSETFROM:-0400
TZOFFSETTO:-0500
TZNAME:EST
DTSTART:20271107T060000
END:STANDARD
END:VTIMEZONE
BEGIN:VEVENT
DTSTART;TZID=America/Detroit:20261112T183000
DTEND;TZID=America/Detroit:20261112T193000
DTSTAMP:20260419T120923
CREATED:20260224T210736Z
LAST-MODIFIED:20260312T165551Z
UID:10001466-1794508200-1794511800@michiganmaritimemuseum.org
SUMMARY:MMM Lecture Series: USCGC MACKINAW – A Tale of Two Ships
DESCRIPTION:Join us for an entertaining\, informative presentation by author and journalist Mike Fornes about two iconic ships that became known as the “Queen of the Great Lakes”. Since 1944\, the Mackinaw has been on guard through gale-force winds\, crushing ice flows and blinding snowstorms. The original ship broke ice with brute force\, and the new version does the same job with finesse and technology. Take a trip through the first six decades of the ship’s history and hear tales of unusual missions\, drama and comedy.  \nTickets are free for Museum members and $10 for non-members. Doors open at 6 PM. You can purchase tickets for this event online\, over the phone\, or in-person. \n\nThis lecture series is made possible thanks to the Nielsen-Wells Grant Fund and Mike & Sue Smith.\nThe virtual viewing is made possible thanks to Steve & Emily Holt.\nReserve Tickets Here!\nPurchase your Virtual Lecture Pass Here!
URL:https://michiganmaritimemuseum.org/event/mmm-lecture-series-a-tale-of-two-ships/
LOCATION:Michigan Maritime Museum\, 260 Dyckman Avenue\, South Haven\, MI\, 49090\, United States
ATTACH;FMTTYPE=image/png:https://michiganmaritimemuseum.org/wp-content/uploads/2026/02/USCG-Mackinaw-A-Tale-of-Two-Ships.png
END:VEVENT
END:VCALENDAR